BEGIN:VCALENDAR
VERSION:2.0
PRODID:-//DPSG Stamm Kreuzritter Siersdorf - ECPv6.15.20//NONSGML v1.0//EN
CALSCALE:GREGORIAN
METHOD:PUBLISH
X-ORIGINAL-URL:https://kreuzritter-siersdorf.de
X-WR-CALDESC:Veranstaltungen für DPSG Stamm Kreuzritter Siersdorf
REFRESH-INTERVAL;VALUE=DURATION:PT1H
X-Robots-Tag:noindex
X-PUBLISHED-TTL:PT1H
BEGIN:VTIMEZONE
TZID:Europe/Berlin
BEGIN:DAYLIGHT
TZOFFSETFROM:+0100
TZOFFSETTO:+0200
TZNAME:CEST
DTSTART:20230326T010000
END:DAYLIGHT
BEGIN:STANDARD
TZOFFSETFROM:+0200
TZOFFSETTO:+0100
TZNAME:CET
DTSTART:20231029T010000
END:STANDARD
BEGIN:DAYLIGHT
TZOFFSETFROM:+0100
TZOFFSETTO:+0200
TZNAME:CEST
DTSTART:20240331T010000
END:DAYLIGHT
BEGIN:STANDARD
TZOFFSETFROM:+0200
TZOFFSETTO:+0100
TZNAME:CET
DTSTART:20241027T010000
END:STANDARD
BEGIN:DAYLIGHT
TZOFFSETFROM:+0100
TZOFFSETTO:+0200
TZNAME:CEST
DTSTART:20250330T010000
END:DAYLIGHT
BEGIN:STANDARD
TZOFFSETFROM:+0200
TZOFFSETTO:+0100
TZNAME:CET
DTSTART:20251026T010000
END:STANDARD
END:VTIMEZONE
BEGIN:VEVENT
DTSTART;TZID=Europe/Berlin:20241207T000000
DTEND;TZID=Europe/Berlin:20241208T235959
DTSTAMP:20260422T044623
CREATED:20240930T113718Z
LAST-MODIFIED:20240930T113718Z
UID:168-1733529600-1733702399@kreuzritter-siersdorf.de
SUMMARY:Weihnachtsmarkt mit Tannenbaumverkauf
DESCRIPTION:
URL:https://kreuzritter-siersdorf.de/event/weihnachtsmarkt-mit-tannenbaumverkauf/
END:VEVENT
BEGIN:VEVENT
DTSTART;TZID=Europe/Berlin:20241215T000000
DTEND;TZID=Europe/Berlin:20241215T235959
DTSTAMP:20260422T044623
CREATED:20240930T113308Z
LAST-MODIFIED:20240930T113308Z
UID:165-1734220800-1734307199@kreuzritter-siersdorf.de
SUMMARY:Friedenslicht 2024
DESCRIPTION:Mit unseren Pfadfinder-Kindern holen wir das Friedenslicht von Aachen nach Siersdorf.
URL:https://kreuzritter-siersdorf.de/event/friedenslicht-2024/
END:VEVENT
END:VCALENDAR